BEGIN:VCALENDAR
VERSION:2.0
PRODID:-//Drayton Parish Council//Meeting Calendar//EN
CALSCALE:GREGORIAN
METHOD:PUBLISH
BEGIN:VEVENT
UID:70545-20230808@draytonparish.gov.uk
DTSTAMP:20260421T181224Z
DTSTART;VALUE=DATE:20230808
DTEND;VALUE=DATE:20230809
SUMMARY:Council Meeting &#8211\\; 8th August 2023
DESCRIPTION:Full Council Meeting\nView details: https://draytonparish.gov.uk/meetings/council-meeting-8th-august-2023/
URL:https://draytonparish.gov.uk/meetings/council-meeting-8th-august-2023/
END:VEVENT
END:VCALENDAR
