BEGIN:VCALENDAR
VERSION:2.0
PRODID:-//Drayton Parish Council//Meeting Calendar//EN
CALSCALE:GREGORIAN
METHOD:PUBLISH
BEGIN:VEVENT
UID:70544-20230912@draytonparish.gov.uk
DTSTAMP:20260421T180523Z
DTSTART;VALUE=DATE:20230912
DTEND;VALUE=DATE:20230913
SUMMARY:Council Meeting &#8211\\; 12th September 2023
DESCRIPTION:Full Council Meeting\nView details: https://draytonparish.gov.uk/meetings/council-meeting-12th-september-2023/
URL:https://draytonparish.gov.uk/meetings/council-meeting-12th-september-2023/
END:VEVENT
END:VCALENDAR
