BEGIN:VCALENDAR
VERSION:2.0
PRODID:-//Drayton Parish Council//Meeting Calendar//EN
CALSCALE:GREGORIAN
METHOD:PUBLISH
BEGIN:VEVENT
UID:70542-20231010@draytonparish.gov.uk
DTSTAMP:20260421T180928Z
DTSTART;VALUE=DATE:20231010
DTEND;VALUE=DATE:20231011
SUMMARY:Council Meeting &#8211\\; 10th October 2023
DESCRIPTION:Full Council Meeting\nView details: https://draytonparish.gov.uk/meetings/council-meeting-10th-october-2023/
URL:https://draytonparish.gov.uk/meetings/council-meeting-10th-october-2023/
END:VEVENT
END:VCALENDAR
