BEGIN:VCALENDAR
VERSION:2.0
PRODID:-//Drayton Parish Council//Meeting Calendar//EN
CALSCALE:GREGORIAN
METHOD:PUBLISH
BEGIN:VEVENT
UID:70541-20231115@draytonparish.gov.uk
DTSTAMP:20260421T180739Z
DTSTART;VALUE=DATE:20231115
DTEND;VALUE=DATE:20231116
SUMMARY:Council Meeting &#8211\\; 15th November 2023
DESCRIPTION:Full Council Meeting\nView details: https://draytonparish.gov.uk/meetings/council-meeting-15th-november-2023/
URL:https://draytonparish.gov.uk/meetings/council-meeting-15th-november-2023/
END:VEVENT
END:VCALENDAR
