BEGIN:VCALENDAR
VERSION:2.0
PRODID:-//Drayton Parish Council//Meeting Calendar//EN
CALSCALE:GREGORIAN
METHOD:PUBLISH
BEGIN:VEVENT
UID:70534-20240213@draytonparish.gov.uk
DTSTAMP:20260421T161240Z
DTSTART;VALUE=DATE:20240213
DTEND;VALUE=DATE:20240214
SUMMARY:Council Meeting &#8211\\; 13th February 2024
DESCRIPTION:Full Council Meeting\nView details: https://draytonparish.gov.uk/meetings/council-meeting-13th-february-2024/
URL:https://draytonparish.gov.uk/meetings/council-meeting-13th-february-2024/
END:VEVENT
END:VCALENDAR
