BEGIN:VCALENDAR
VERSION:2.0
PRODID:-//Drayton Parish Council//Meeting Calendar//EN
CALSCALE:GREGORIAN
METHOD:PUBLISH
BEGIN:VEVENT
UID:70532-20240205@draytonparish.gov.uk
DTSTAMP:20260421T161214Z
DTSTART;VALUE=DATE:20240205
DTEND;VALUE=DATE:20240206
SUMMARY:Extraordinary Council Meeting &#8211\\; 5th February 2024
DESCRIPTION:Full Council Meeting\nView details: https://draytonparish.gov.uk/meetings/extraordinary-council-meeting-5th-february-2024/
URL:https://draytonparish.gov.uk/meetings/extraordinary-council-meeting-5th-february-2024/
END:VEVENT
END:VCALENDAR
