BEGIN:VCALENDAR
VERSION:2.0
PRODID:-//Drayton Parish Council//Meeting Calendar//EN
CALSCALE:GREGORIAN
METHOD:PUBLISH
BEGIN:VEVENT
UID:70464-20240528@draytonparish.gov.uk
DTSTAMP:20260421T105558Z
DTSTART;VALUE=DATE:20240528
DTEND;VALUE=DATE:20240529
SUMMARY:Annual Parish Meeting &#8211\\; 2024
DESCRIPTION:Annual Meeting\nView details: https://draytonparish.gov.uk/meetings/council-meeting-28th-may-2024/
URL:https://draytonparish.gov.uk/meetings/council-meeting-28th-may-2024/
END:VEVENT
END:VCALENDAR
