BEGIN:VCALENDAR
VERSION:2.0
PRODID:-//Drayton Parish Council//Meeting Calendar//EN
CALSCALE:GREGORIAN
METHOD:PUBLISH
BEGIN:VEVENT
UID:70462-20240618@draytonparish.gov.uk
DTSTAMP:20260421T124430Z
DTSTART;VALUE=DATE:20240618
DTEND;VALUE=DATE:20240619
SUMMARY:Council Meeting &#8211\\; 18th June 2024
DESCRIPTION:Full Council Meeting\nView details: https://draytonparish.gov.uk/meetings/council-meeting-18th-june-2024/
URL:https://draytonparish.gov.uk/meetings/council-meeting-18th-june-2024/
END:VEVENT
END:VCALENDAR
